BEGIN:VCALENDAR
VERSION:2.0
PRODID:-//wp-events-plugin.com//7.2.3.1//EN
BEGIN:VEVENT
UID:23@inalarm.com
DTSTART:20230324T090000Z
DTEND:20230324T170000Z
DTSTAMP:20231002T212317Z
URL:https://inalarm.com/eventos/yonusa/
SUMMARY:Curso presencial Yonusa
DESCRIPTION:
ATTACH;FMTTYPE=image/jpeg:https://inalarm.com/wp-content/uploads/2023/10/A
 nuncios-webinar-9.png
CATEGORIES:Seguridad perimetral
END:VEVENT
END:VCALENDAR