BEGIN:VCALENDAR
VERSION:2.0
PRODID:-//wp-events-plugin.com//7.2.3.1//EN
BEGIN:VEVENT
UID:8@inalarm.com
DTSTART:20230822T090000Z
DTEND:20230822T100000Z
DTSTAMP:20240819T170242Z
URL:https://inalarm.com/eventos/webinar-uhf1-10f-pro-2023-2/
SUMMARY:Webinar - UHF1-10F PRO
DESCRIPTION:¡Conoce más sobre nuestros productos!
ATTACH;FMTTYPE=image/jpeg:https://inalarm.com/wp-content/uploads/2023/10/W
 EBINAR-UHF1-10-PRO-2.jpg
CATEGORIES:Acceso
END:VEVENT
END:VCALENDAR