BEGIN:VCALENDAR
VERSION:2.0
PRODID:-//wp-events-plugin.com//7.2.3.1//EN
BEGIN:VEVENT
UID:133@inalarm.com
DTSTART:20260115T150000Z
DTEND:20260115T160000Z
DTSTAMP:20260106T161813Z
URL:https://inalarm.com/eventos/webinar-software-acceso-cvaccess/
SUMMARY:Webinar Software acceso - CVAccess
DESCRIPTION:
ATTACH;FMTTYPE=image/jpeg:https://inalarm.com/wp-content/uploads/2026/01/C
 V-ACCESS.jpg
CATEGORIES:Acceso
END:VEVENT
END:VCALENDAR