BEGIN:VCALENDAR
VERSION:2.0
PRODID:-//wp-events-plugin.com//7.2.3.1//EN
BEGIN:VEVENT
UID:142@inalarm.com
DTSTART:20260422T150000Z
DTEND:20260422T160000Z
DTSTAMP:20260413T165808Z
URL:https://inalarm.com/eventos/webinar-sensores-de-alto-desempeno-optex/
SUMMARY:Webinar - Sensores de alto desempeño Optex
DESCRIPTION:
ATTACH;FMTTYPE=image/jpeg:https://inalarm.com/wp-content/uploads/2026/04/W
 EBINAR-OPTEX.jpg
CATEGORIES:Alarmas
END:VEVENT
END:VCALENDAR