BEGIN:VCALENDAR
VERSION:2.0
PRODID:-//wp-events-plugin.com//7.2.3.1//EN
BEGIN:VEVENT
UID:17@inalarm.com
DTSTART:20230607T090000Z
DTEND:20230607T100000Z
DTSTAMP:20231002T192643Z
URL:https://inalarm.com/eventos/webinar-powerseries/
SUMMARY:Webinar COMERCIAL PowerSeries NEO
DESCRIPTION:¡Conoce más de nuestros productos!
ATTACH;FMTTYPE=image/jpeg:https://inalarm.com/wp-content/uploads/2023/10/W
 EBINAR-COMERCIAL-NEO.png
CATEGORIES:Alarmas
END:VEVENT
END:VCALENDAR