BEGIN:VCALENDAR
VERSION:2.0
PRODID:-//wp-events-plugin.com//7.2.3.1//EN
BEGIN:VEVENT
UID:130@inalarm.com
DTSTART:20251127T150000Z
DTEND:20251127T160000Z
DTSTAMP:20251111T194723Z
URL:https://inalarm.com/eventos/webinar-nuevas-terminales-sensefp-y-softwa
 re-zkbio-zlink/
SUMMARY:Webinar - Nuevas terminales SenseFP y Software ZKBio ZLink
DESCRIPTION:
ATTACH;FMTTYPE=image/jpeg:https://inalarm.com/wp-content/uploads/2025/11/W
 EBINAR-ZKT-27-NOV.jpg
CATEGORIES:Tiempo y Asistencia
END:VEVENT
END:VCALENDAR