BEGIN:VCALENDAR
VERSION:2.0
PRODID:-//wp-events-plugin.com//7.2.3.1//EN
BEGIN:VEVENT
UID:139@inalarm.com
DTSTART:20260409T150000Z
DTEND:20260409T160000Z
DTSTAMP:20260323T231218Z
URL:https://inalarm.com/eventos/webinar-integracion-intelbras-dahua/
SUMMARY:Webinar - Integración intelbras + dahua
DESCRIPTION:
ATTACH;FMTTYPE=image/jpeg:https://inalarm.com/wp-content/uploads/2026/03/I
 NTELBRAS-WEBINAR-ABRIL1.jpg
CATEGORIES:Alarmas,CCTV
END:VEVENT
END:VCALENDAR