BEGIN:VCALENDAR
VERSION:2.0
PRODID:-//wp-events-plugin.com//7.2.3.1//EN
BEGIN:VEVENT
UID:118@inalarm.com
DTSTART:20250814T150000Z
DTEND:20250814T160000Z
DTSTAMP:20250722T223000Z
URL:https://inalarm.com/eventos/webinar-exacq_2025/
SUMMARY:Webinar comercial - Exacq
DESCRIPTION:
ATTACH;FMTTYPE=image/jpeg:https://inalarm.com/wp-content/uploads/2025/07/W
 EBINAR-EXACQ.jpg
CATEGORIES:CCTV
END:VEVENT
END:VCALENDAR