BEGIN:VCALENDAR
VERSION:2.0
PRODID:-//wp-events-plugin.com//7.2.3.1//EN
BEGIN:VEVENT
UID:144@inalarm.com
DTSTART:20260528T150000Z
DTEND:20260528T160000Z
DTSTAMP:20260422T204925Z
URL:https://inalarm.com/eventos/webinar-energia-que-acompana-ups-zkteco/
SUMMARY:Webinar - Energía que acompaña\, UPS ZKTeco
DESCRIPTION:
ATTACH;FMTTYPE=image/jpeg:https://inalarm.com/wp-content/uploads/2026/04/U
 PS-VARIOS-D.jpg
CATEGORIES:Acceso
END:VEVENT
END:VCALENDAR