BEGIN:VCALENDAR
VERSION:2.0
PRODID:-//wp-events-plugin.com//7.2.3.1//EN
BEGIN:VEVENT
UID:6@inalarm.com
DTSTART:20230829T090000Z
DTEND:20230829T100000Z
DTSTAMP:20230927T205045Z
URL:https://inalarm.com/eventos/webinar-dispositivos-inalambricos/
SUMMARY:Webinar Dispositivos Inalámbricos
DESCRIPTION:Conoce más sobre los dispositivos inalámbricos
ATTACH;FMTTYPE=image/jpeg:https://inalarm.com/wp-content/uploads/2023/09/W
 EBINAR-INALAMBRICOS-3.jpg
CATEGORIES:Acceso
END:VEVENT
END:VCALENDAR