BEGIN:VCALENDAR
VERSION:2.0
PRODID:-//wp-events-plugin.com//7.2.3.1//EN
BEGIN:VEVENT
UID:134@inalarm.com
DTSTART:20260127T150000Z
DTEND:20260127T160000Z
DTSTAMP:20260106T161829Z
URL:https://inalarm.com/eventos/webinar-control-total-y-acceso-inteligente
 -con-paneles-zkteco/
SUMMARY:Webinar control total y acceso inteligente con paneles ZKTeco
DESCRIPTION:
ATTACH;FMTTYPE=image/jpeg:https://inalarm.com/wp-content/uploads/2026/01/z
 kteco-panel.jpg
CATEGORIES:Acceso
END:VEVENT
END:VCALENDAR