BEGIN:VCALENDAR
VERSION:2.0
PRODID:-//wp-events-plugin.com//7.2.3.1//EN
BEGIN:VEVENT
UID:143@inalarm.com
DTSTART:20260514T150000Z
DTEND:20260514T160000Z
DTSTAMP:20260422T204946Z
URL:https://inalarm.com/eventos/webinar-control-de-tiempo-y-asistencia/
SUMMARY:Webinar - Control de tiempo y asistencia
DESCRIPTION:
ATTACH;FMTTYPE=image/jpeg:https://inalarm.com/wp-content/uploads/2026/04/T
 YA-ELVIS-ZK.jpg
CATEGORIES:Tiempo y Asistencia
END:VEVENT
END:VCALENDAR