BEGIN:VCALENDAR
VERSION:2.0
PRODID:-//wp-events-plugin.com//7.2.3.1//EN
BEGIN:VEVENT
UID:115@inalarm.com
DTSTART:20250715T150000Z
DTEND:20250715T160000Z
DTSTAMP:20250714T203229Z
URL:https://inalarm.com/eventos/webinar-comunicacion-celular-5g-lte/
SUMMARY:Webinar - Comunicador celular 5G/LTE
DESCRIPTION:
ATTACH;FMTTYPE=image/jpeg:https://inalarm.com/wp-content/uploads/2025/07/P
 ower-y-Neo.jpg
CATEGORIES:Alarmas
END:VEVENT
END:VCALENDAR