BEGIN:VCALENDAR
VERSION:2.0
PRODID:-//wp-events-plugin.com//7.2.3.1//EN
BEGIN:VEVENT
UID:74@inalarm.com
DTSTART:20241106T150000Z
DTEND:20241106T160000Z
DTSTAMP:20241022T185551Z
URL:https://inalarm.com/eventos/webinar-comercial-control-de-tiempo-y-asis
 tencia-2024/
SUMMARY:Webinar comercial – Control de tiempo y asistencia
DESCRIPTION:
ATTACH;FMTTYPE=image/jpeg:https://inalarm.com/wp-content/uploads/2024/10/W
 EBINAR-TIEMPO-Y-ASISTENCIA.jpg
CATEGORIES:Tiempo y Asistencia
END:VEVENT
END:VCALENDAR