BEGIN:VCALENDAR
VERSION:2.0
PRODID:-//wp-events-plugin.com//7.2.3.1//EN
BEGIN:VEVENT
UID:9@inalarm.com
DTSTART:20230810T090000Z
DTEND:20230810T100000Z
DTSTAMP:20240819T170143Z
URL:https://inalarm.com/eventos/webinar-arco-detectores-de-metal-2023-3/
SUMMARY:Webinar - Arco detectores de metal
DESCRIPTION:¡Conoce más sobre nuestros productos!
ATTACH;FMTTYPE=image/jpeg:https://inalarm.com/wp-content/uploads/2023/10/A
 RCO-DETECTOR.jpg
CATEGORIES:Acceso
END:VEVENT
END:VCALENDAR