BEGIN:VCALENDAR
VERSION:2.0
PRODID:-//wp-events-plugin.com//7.2.3.1//EN
BEGIN:VEVENT
UID:77@inalarm.com
DTSTART:20241126T150000Z
DTEND:20241126T160000Z
DTSTAMP:20241114T172628Z
URL:https://inalarm.com/eventos/webinar-aprende-a-configurar-tus-comunicad
 ores/
SUMMARY:Webinar - Aprende a configurar tus comunicadores
DESCRIPTION:
ATTACH;FMTTYPE=image/jpeg:https://inalarm.com/wp-content/uploads/2024/11/W
 EBINAR-COMUNICADORES-2.jpg
CATEGORIES:Alarmas
END:VEVENT
END:VCALENDAR