BEGIN:VCALENDAR
VERSION:2.0
PRODID:-//wp-events-plugin.com//7.2.3.1//EN
BEGIN:VEVENT
UID:80@inalarm.com
DTSTART:20241212T160000Z
DTEND:20241212T170000Z
DTSTAMP:20241128T203115Z
URL:https://inalarm.com/eventos/webinar-alarma-inalambrica-amt-8000-pro/
SUMMARY:Webinar - Alarma inalámbrica AMT 8000 Pro
DESCRIPTION:
ATTACH;FMTTYPE=image/jpeg:https://inalarm.com/wp-content/uploads/2024/11/W
 EBINAR-INTEL-800-PRO.jpg
CATEGORIES:Alarmas
END:VEVENT
END:VCALENDAR