BEGIN:VCALENDAR
VERSION:2.0
PRODID:-//wp-events-plugin.com//7.2.3.1//EN
BEGIN:VEVENT
UID:20@inalarm.com
DTSTART:20230418T090000Z
DTEND:20230418T100000Z
DTSTAMP:20240819T165316Z
URL:https://inalarm.com/eventos/webinar-accesorios-de-acceso-2023/
SUMMARY:Webinar - Accesorios de Acceso
DESCRIPTION:¡Conoce más de nuestros productos!
ATTACH;FMTTYPE=image/jpeg:https://inalarm.com/wp-content/uploads/2023/10/A
 CCESORIOS-DE-ACCESO-CLICK-AQUI.jpg
CATEGORIES:Acceso
END:VEVENT
END:VCALENDAR