BEGIN:VCALENDAR
VERSION:2.0
PRODID:-//wp-events-plugin.com//7.2.3.1//EN
BEGIN:VEVENT
UID:13@inalarm.com
DTSTART:20230706T090000Z
DTEND:20230706T100000Z
DTSTAMP:20240819T165921Z
URL:https://inalarm.com/eventos/vr10_pro-2023/
SUMMARY:Webinar - Radar VR10PRO
DESCRIPTION:¡Conoce más sobre nuestros productos!
ATTACH;FMTTYPE=image/jpeg:https://inalarm.com/wp-content/uploads/2023/10/W
 ebinar-Radar-VR10-PRO.png
CATEGORIES:Acceso
END:VEVENT
END:VCALENDAR