BEGIN:VCALENDAR
VERSION:2.0
PRODID:-//wp-events-plugin.com//7.2.3.1//EN
BEGIN:VEVENT
UID:127@inalarm.com
DTSTART:20251023T150000Z
DTEND:20251023T160000Z
DTSTAMP:20251015T155016Z
URL:https://inalarm.com/eventos/ups_zkteco-2025/
SUMMARY:Webinar - UPS ZKTeco
DESCRIPTION:
ATTACH;FMTTYPE=image/jpeg:https://inalarm.com/wp-content/uploads/2025/09/N
 UEVA-FECHA-UPS.jpg
CATEGORIES:Acceso,Alarmas,Parqueo,Seguridad perimetral,Tiempo y Asistencia
END:VEVENT
END:VCALENDAR