BEGIN:VCALENDAR
VERSION:2.0
PRODID:-//wp-events-plugin.com//7.2.3.1//EN
BEGIN:VEVENT
UID:50@inalarm.com
DTSTART:20240704T090000Z
DTEND:20240704T100000Z
DTSTAMP:20240612T232401Z
URL:https://inalarm.com/eventos/tiempo_asistencia-control/
SUMMARY:Webinar - Control de tiempo y asistencia
DESCRIPTION:Webinar - Control de tiempo y asistencia\n
ATTACH;FMTTYPE=image/jpeg:https://inalarm.com/wp-content/uploads/2024/05/W
 EBINAR-TIEMPO-Y-ASISTENCIA-4-JULIO.jpg
CATEGORIES:Tiempo y Asistencia
END:VEVENT
END:VCALENDAR