BEGIN:VCALENDAR
VERSION:2.0
PRODID:-//wp-events-plugin.com//7.2.3.1//EN
BEGIN:VEVENT
UID:112@inalarm.com
DTSTART:20250717T150000Z
DTEND:20250717T180000Z
DTSTAMP:20250707T190434Z
URL:https://inalarm.com/eventos/terminales-ups_2025/
SUMMARY:Presentación comercial - Terminales SenseFace y UPS
DESCRIPTION:
ATTACH;FMTTYPE=image/jpeg:https://inalarm.com/wp-content/uploads/2025/07/S
 ENSE-FACE-PRE1.jpg
CATEGORIES:Acceso
END:VEVENT
END:VCALENDAR