BEGIN:VCALENDAR
VERSION:2.0
PRODID:-//wp-events-plugin.com//7.2.3.1//EN
BEGIN:VEVENT
UID:119@inalarm.com
DTSTART:20250826T150000Z
DTEND:20250826T160000Z
DTSTAMP:20250722T223330Z
URL:https://inalarm.com/eventos/teleentry_2025-mircom/
SUMMARY:Webinar - TeleEntry de Mircom
DESCRIPTION:
ATTACH;FMTTYPE=image/jpeg:https://inalarm.com/wp-content/uploads/2025/07/W
 EBINAR-TELEENTRY.jpg
CATEGORIES:Acceso
END:VEVENT
END:VCALENDAR