BEGIN:VCALENDAR
VERSION:2.0
PRODID:-//wp-events-plugin.com//7.2.3.1//EN
BEGIN:VEVENT
UID:5@inalarm.com
DTSTART:20230831T090000Z
DTEND:20230831T100000Z
DTSTAMP:20240819T170338Z
URL:https://inalarm.com/eventos/teleentry-mircom-2023-4/
SUMMARY:Webinar TeleEntry Mircom
DESCRIPTION:Conoce más sobre el TeleEntry de Mircom
ATTACH;FMTTYPE=image/jpeg:https://inalarm.com/wp-content/uploads/2023/09/W
 EBINAR-TELEENTRY-3-2.jpg
CATEGORIES:Acceso
END:VEVENT
END:VCALENDAR