BEGIN:VCALENDAR
VERSION:2.0
PRODID:-//wp-events-plugin.com//7.2.3.1//EN
BEGIN:VEVENT
UID:35@inalarm.com
DTSTART:20240312T090000Z
DTEND:20240312T120000Z
DTSTAMP:20240819T170451Z
URL:https://inalarm.com/eventos/teleentry-mircom-2-2024-2/
SUMMARY:Curso - TeleEntry Mircom
DESCRIPTION:Inscríbete con nuestro encargado de línea: Alejandro Monteneg
 ro 
ATTACH;FMTTYPE=image/jpeg:https://inalarm.com/wp-content/uploads/2023/11/C
 URSO-TELEENTRY-12-MARZO.jpg
CATEGORIES:Acceso,Parqueo
END:VEVENT
END:VCALENDAR