BEGIN:VCALENDAR
VERSION:2.0
PRODID:-//wp-events-plugin.com//7.2.3.1//EN
BEGIN:VEVENT
UID:27@inalarm.com
DTSTART:20230216T090000Z
DTEND:20230216T100000Z
DTSTAMP:20240819T164940Z
URL:https://inalarm.com/eventos/teleentry-2023/
SUMMARY:Webinar TeleEntry
DESCRIPTION:¡Conoce más de nuestros productos!
ATTACH;FMTTYPE=image/jpeg:https://inalarm.com/wp-content/uploads/2023/10/W
 ebinar-TeleEntry-2.jpg
CATEGORIES:Acceso
END:VEVENT
END:VCALENDAR