BEGIN:VCALENDAR
VERSION:2.0
PRODID:-//wp-events-plugin.com//7.2.3.1//EN
BEGIN:VEVENT
UID:21@inalarm.com
DTSTART:20230411T090000Z
DTEND:20230411T100000Z
DTSTAMP:20240819T165121Z
URL:https://inalarm.com/eventos/tecnica-modulo-de-acceso-2023/
SUMMARY:Webinar Capacitación Técnica Módulo Acceso
DESCRIPTION:
ATTACH;FMTTYPE=image/jpeg:https://inalarm.com/wp-content/uploads/2023/10/A
 CCESO-ZK-inscribite-haciendo-click-aqui.jpg
CATEGORIES:Acceso
END:VEVENT
END:VCALENDAR