BEGIN:VCALENDAR
VERSION:2.0
PRODID:-//wp-events-plugin.com//7.2.3.1//EN
BEGIN:VEVENT
UID:11@inalarm.com
DTSTART:20230803T090000Z
DTEND:20230803T100000Z
DTSTAMP:20240819T170040Z
URL:https://inalarm.com/eventos/speedface_v4l-2023-2/
SUMMARY:Curso SpeedFace V4L
DESCRIPTION:¡Conoce más sobre nuestros productos!
ATTACH;FMTTYPE=image/jpeg:https://inalarm.com/wp-content/uploads/2023/10/S
 peedface-V4L-sin-precio-1.webp
CATEGORIES:Acceso
END:VEVENT
END:VCALENDAR