BEGIN:VCALENDAR
VERSION:2.0
PRODID:-//wp-events-plugin.com//7.2.3.1//EN
BEGIN:VEVENT
UID:121@inalarm.com
DTSTART:20250902T150000Z
DTEND:20250902T180000Z
DTSTAMP:20250820T212333Z
URL:https://inalarm.com/eventos/software_cvaccess2025/
SUMMARY:Curso técnico - Software control de acceso ZKBio CVAccess
DESCRIPTION:
ATTACH;FMTTYPE=image/jpeg:https://inalarm.com/wp-content/uploads/2025/08/C
 URSO-CVACCESS1.jpg
CATEGORIES:Acceso
END:VEVENT
END:VCALENDAR