BEGIN:VCALENDAR
VERSION:2.0
PRODID:-//wp-events-plugin.com//7.2.3.1//EN
BEGIN:VEVENT
UID:113@inalarm.com
DTSTART:20250722T150000Z
DTEND:20250722T160000Z
DTSTAMP:20250707T200534Z
URL:https://inalarm.com/eventos/sistemas_parqueo_detector-2025/
SUMMARY:Webinar - Sistemas de parqueos y Detector de metales
DESCRIPTION:
ATTACH;FMTTYPE=image/jpeg:https://inalarm.com/wp-content/uploads/2025/07/W
 ebinar-TBM.jpg
CATEGORIES:Acceso
END:VEVENT
END:VCALENDAR