BEGIN:VCALENDAR
VERSION:2.0
PRODID:-//wp-events-plugin.com//7.2.3.1//EN
BEGIN:VEVENT
UID:103@inalarm.com
DTSTART:20250520T160000Z
DTEND:20250520T170000Z
DTSTAMP:20250430T211042Z
URL:https://inalarm.com/eventos/sensores-cableados_2025/
SUMMARY:Webinar comercial - Integración sensores cableados
DESCRIPTION:
ATTACH;FMTTYPE=image/jpeg:https://inalarm.com/wp-content/uploads/2025/04/C
 ABLEADOS-SENS.jpg
CATEGORIES:Acceso,Alarmas
END:VEVENT
END:VCALENDAR