BEGIN:VCALENDAR
VERSION:2.0
PRODID:-//wp-events-plugin.com//7.2.3.1//EN
BEGIN:VEVENT
UID:38@inalarm.com
DTSTART:20240116T090000Z
DTEND:20240116T120000Z
DTSTAMP:20240819T170420Z
URL:https://inalarm.com/eventos/presentacion_paneles-2024-1/
SUMMARY:Presentación - Paneles Zkteco
DESCRIPTION:Inscríbete con nuestro encargado de línea: Alejandro Monteneg
 ro 
ATTACH;FMTTYPE=image/jpeg:https://inalarm.com/wp-content/uploads/2023/11/T
 ECNICO-COMERCIAL-PANELES-ZK.jpg
CATEGORIES:Acceso
END:VEVENT
END:VCALENDAR