BEGIN:VCALENDAR
VERSION:2.0
PRODID:-//wp-events-plugin.com//7.2.3.1//EN
BEGIN:VEVENT
UID:73@inalarm.com
DTSTART:20241017T150000Z
DTEND:20241017T180000Z
DTSTAMP:20241003T163628Z
URL:https://inalarm.com/eventos/presentacion-tecnico-comercial-motores-cam
 e-2024/
SUMMARY:Presentación técnico-comercial motores y brazos abatibles CAME
DESCRIPTION:
ATTACH;FMTTYPE=image/jpeg:https://inalarm.com/wp-content/uploads/2024/10/C
 AME-MOTORES.jpg
CATEGORIES:Parqueo
END:VEVENT
END:VCALENDAR