BEGIN:VCALENDAR
VERSION:2.0
PRODID:-//wp-events-plugin.com//7.2.3.1//EN
BEGIN:VEVENT
UID:47@inalarm.com
DTSTART:20240523T090000Z
DTEND:20240523T120000Z
DTSTAMP:20240509T212108Z
URL:https://inalarm.com/eventos/presentacion-tecnico-comercial-acceso-vehi
 cular/
SUMMARY:Presentación técnico-comercial / Acceso Vehicular
DESCRIPTION:Presentación técnico-comercial / Acceso Vehicular\n
ATTACH;FMTTYPE=image/jpeg:https://inalarm.com/wp-content/uploads/2024/04/A
 CCESO-VEHICULAR-1.jpg
CATEGORIES:Acceso,Parqueo
END:VEVENT
END:VCALENDAR