BEGIN:VCALENDAR
VERSION:2.0
PRODID:-//wp-events-plugin.com//7.2.3.1//EN
BEGIN:VEVENT
UID:100@inalarm.com
DTSTART:20250507T150000Z
DTEND:20250507T180000Z
DTSTAMP:20250428T171035Z
URL:https://inalarm.com/eventos/presentacion-invidtech-2025/
SUMMARY:Presentación comercial - Videovigilancia avanzada con InVidTech
DESCRIPTION:
ATTACH;FMTTYPE=image/jpeg:https://inalarm.com/wp-content/uploads/2025/04/C
 URSO-INVIDTECH-s.jpg
CATEGORIES:CCTV
END:VEVENT
END:VCALENDAR