BEGIN:VCALENDAR
VERSION:2.0
PRODID:-//wp-events-plugin.com//7.2.3.1//EN
BEGIN:VEVENT
UID:65@inalarm.com
DTSTART:20240924T150000Z
DTEND:20240924T170000Z
DTSTAMP:20240916T191058Z
URL:https://inalarm.com/eventos/presentacion-comercial-intelbras-dia1/
SUMMARY:Presentación comercial Intelbras
DESCRIPTION:
ATTACH;FMTTYPE=image/jpeg:https://inalarm.com/wp-content/uploads/2024/09/I
 NTELBRAS-24-SEP-1.jpg
CATEGORIES:Acceso,Alarmas,Incendio,Seguridad perimetral
END:VEVENT
END:VCALENDAR