BEGIN:VCALENDAR
VERSION:2.0
PRODID:-//wp-events-plugin.com//7.2.3.1//EN
BEGIN:VEVENT
UID:105@inalarm.com
DTSTART:20250604T150000Z
DTEND:20250604T230000Z
DTSTAMP:20250516T154328Z
URL:https://inalarm.com/eventos/powerseriespro_2025/
SUMMARY:Curso de Alarmas PowerSeries Pro
DESCRIPTION:Inscríbete con nuestra encargada de línea: Graciela Martínez
  
ATTACH;FMTTYPE=image/jpeg:https://inalarm.com/wp-content/uploads/2025/05/S
 in-precio-pro.jpg
CATEGORIES:Alarmas
END:VEVENT
END:VCALENDAR