BEGIN:VCALENDAR
VERSION:2.0
PRODID:-//wp-events-plugin.com//7.2.3.1//EN
BEGIN:VEVENT
UID:55@inalarm.com
DTSTART:20240625T090000Z
DTEND:20240625T170000Z
DTSTAMP:20240614T164950Z
URL:https://inalarm.com/eventos/power-series-neo/
SUMMARY:Certificación power series Neo
DESCRIPTION:Certificación power series Neo\n&nbsp\;\nPuedes adquirir tu cu
 po con tu asesor o escribirnos a nuestro WhatsApp para más información.\
 n \n
ATTACH;FMTTYPE=image/jpeg:https://inalarm.com/wp-content/uploads/2024/06/C
 ERTIFICACION-NEO-SIN-PRECIO.jpg
CATEGORIES:Alarmas
END:VEVENT
END:VCALENDAR