BEGIN:VCALENDAR
VERSION:2.0
PRODID:-//wp-events-plugin.com//7.2.3.1//EN
BEGIN:VEVENT
UID:79@inalarm.com
DTSTART:20241210T150000Z
DTEND:20241210T160000Z
DTSTAMP:20241121T194203Z
URL:https://inalarm.com/eventos/portones-came-2024/
SUMMARY:Webinar - Automatización de portones
DESCRIPTION:
ATTACH;FMTTYPE=image/jpeg:https://inalarm.com/wp-content/uploads/2024/11/W
 EBINAR-PORTONES.jpg
CATEGORIES:Parqueo
END:VEVENT
END:VCALENDAR