BEGIN:VCALENDAR
VERSION:2.0
PRODID:-//wp-events-plugin.com//7.2.3.1//EN
BEGIN:VEVENT
UID:18@inalarm.com
DTSTART:20230525T090000Z
DTEND:20230525T100000Z
DTSTAMP:20240819T165427Z
URL:https://inalarm.com/eventos/paneles_elevadores-2023/
SUMMARY:Webinar de Páneles de elevadores
DESCRIPTION:¡Conoce más de nuestros productos!
ATTACH;FMTTYPE=image/jpeg:https://inalarm.com/wp-content/uploads/2023/10/A
 nuncios-webinar-10.png
CATEGORIES:Acceso
END:VEVENT
END:VCALENDAR