BEGIN:VCALENDAR
VERSION:2.0
PRODID:-//wp-events-plugin.com//7.2.3.1//EN
BEGIN:VEVENT
UID:101@inalarm.com
DTSTART:20250508T150000Z
DTEND:20250508T180000Z
DTSTAMP:20250425T220104Z
URL:https://inalarm.com/eventos/paneles-acceso-2025/
SUMMARY:Curso técnico - Control total e inteligente con paneles de acceso
DESCRIPTION:
ATTACH;FMTTYPE=image/jpeg:https://inalarm.com/wp-content/uploads/2025/04/P
 ANELES-ZKTECO2.jpg
CATEGORIES:Acceso
END:VEVENT
END:VCALENDAR