BEGIN:VCALENDAR
VERSION:2.0
PRODID:-//wp-events-plugin.com//7.2.3.1//EN
BEGIN:VEVENT
UID:114@inalarm.com
DTSTART:20250731T150000Z
DTEND:20250731T160000Z
DTSTAMP:20250728T161938Z
URL:https://inalarm.com/eventos/panel-fuente_zk_2025/
SUMMARY:Webinar - Paneles Plus y Fuente de poder ZKTeco
DESCRIPTION:
ATTACH;FMTTYPE=image/jpeg:https://inalarm.com/wp-content/uploads/2025/07/F
 UENTE-Y-PANEL.jpg
CATEGORIES:Acceso
END:VEVENT
END:VCALENDAR