BEGIN:VCALENDAR
VERSION:2.0
PRODID:-//wp-events-plugin.com//7.2.3.1//EN
BEGIN:VEVENT
UID:42@inalarm.com
DTSTART:20240222T090000Z
DTEND:20240222T170000Z
DTSTAMP:20240205T190813Z
URL:https://inalarm.com/eventos/nivel_1_alarmas/
SUMMARY:Curso - Nivel 1 alarmas
DESCRIPTION:Inscríbete con nuestra encargada de línea: Graciela Martinez 
ATTACH;FMTTYPE=image/jpeg:https://inalarm.com/wp-content/uploads/2023/11/N
 IVEL-1-ALARMAS.jpg
CATEGORIES:Alarmas
END:VEVENT
END:VCALENDAR