BEGIN:VCALENDAR
VERSION:2.0
PRODID:-//wp-events-plugin.com//7.2.3.1//EN
BEGIN:VEVENT
UID:87@inalarm.com
DTSTART:20250408T150000Z
DTEND:20250408T190000Z
DTSTAMP:20250321T214605Z
URL:https://inalarm.com/eventos/motores-came_25/
SUMMARY:Curso técnico brazos y motores CAME
DESCRIPTION:
ATTACH;FMTTYPE=image/jpeg:https://inalarm.com/wp-content/uploads/2025/01/C
 URSO-CAME-ABRIL.jpg
CATEGORIES:Parqueo
END:VEVENT
END:VCALENDAR