BEGIN:VCALENDAR
VERSION:2.0
PRODID:-//wp-events-plugin.com//7.2.3.1//EN
BEGIN:VEVENT
UID:111@inalarm.com
DTSTART:20250711T150000Z
DTEND:20250711T160000Z
DTSTAMP:20250704T201448Z
URL:https://inalarm.com/eventos/licenciamiento-kantech/
SUMMARY:Webinar - Licenciamiento de Kantech
DESCRIPTION:
ATTACH;FMTTYPE=image/jpeg:https://inalarm.com/wp-content/uploads/2025/07/w
 ebinar-licenciamiento-1.jpg
CATEGORIES:Acceso
END:VEVENT
END:VCALENDAR