BEGIN:VCALENDAR
VERSION:2.0
PRODID:-//wp-events-plugin.com//7.2.3.1//EN
BEGIN:VEVENT
UID:14@inalarm.com
DTSTART:20230629T090000Z
DTEND:20230629T100000Z
DTSTAMP:20240819T165553Z
URL:https://inalarm.com/eventos/lface_eface-2023/
SUMMARY:Webinar - L Face 10 y E Face 10
DESCRIPTION:¡Conoce más de nuestros productos!
ATTACH;FMTTYPE=image/jpeg:https://inalarm.com/wp-content/uploads/2023/10/W
 EBINAR-COMERCIAL-EFACE-Y-LFACE.png
CATEGORIES:Acceso
END:VEVENT
END:VCALENDAR