BEGIN:VCALENDAR
VERSION:2.0
PRODID:-//wp-events-plugin.com//7.2.3.1//EN
BEGIN:VEVENT
UID:22@inalarm.com
DTSTART:20230329T090000Z
DTEND:20230329T100000Z
DTSTAMP:20240819T165048Z
URL:https://inalarm.com/eventos/lanzamiento_cvsecurity-2023/
SUMMARY:Webinar Lanzamiento ZKBio CVSecurity
DESCRIPTION:¡Conoce más de nuestros productos!
ATTACH;FMTTYPE=image/jpeg:https://inalarm.com/wp-content/uploads/2023/10/I
 NVITACION-23.jpg
CATEGORIES:Acceso
END:VEVENT
END:VCALENDAR