BEGIN:VCALENDAR
VERSION:2.0
PRODID:-//wp-events-plugin.com//7.2.3.1//EN
BEGIN:VEVENT
UID:68@inalarm.com
DTSTART:20241010T150000Z
DTEND:20241010T170000Z
DTSTAMP:20240923T172315Z
URL:https://inalarm.com/eventos/lanzamiento-intelbras-xela/
SUMMARY:Lanzamiento Intelbras en Quetzaltenango
DESCRIPTION:¡Bienvenido(a) al lanzamiento de la nueva línea de seguridad 
 electrónica Intelbras en Quetzaltenango!\nTe invitamos a formar parte de 
 esta experiencia exclusiva donde presentaremos las últimas innovaciones e
 n tecnología de seguridad para hogares y negocios. Descubre cómo Intelbr
 as puede brindar tranquilidad y protección\, con soluciones avanzadas en 
 control de acceso\, sistemas de alarmas\, incendio y seguridad perimetral.
ATTACH;FMTTYPE=image/jpeg:https://inalarm.com/wp-content/uploads/2024/09/L
 ANZAMIENTO-XELA.jpg
CATEGORIES:Acceso,Alarmas,Incendio,Seguridad perimetral
END:VEVENT
END:VCALENDAR