BEGIN:VCALENDAR
VERSION:2.0
PRODID:-//wp-events-plugin.com//7.2.3.1//EN
BEGIN:VEVENT
UID:109@inalarm.com
DTSTART:20250624T150000Z
DTEND:20250624T160000Z
DTSTAMP:20250616T221451Z
URL:https://inalarm.com/eventos/kantech_paneles2025/
SUMMARY:Webinar comercial - Paneles Kantech
DESCRIPTION:
ATTACH;FMTTYPE=image/jpeg:https://inalarm.com/wp-content/uploads/2025/05/N
 UEVA-FECHA-KANTECH.jpg
CATEGORIES:Acceso
END:VEVENT
END:VCALENDAR