BEGIN:VCALENDAR
VERSION:2.0
PRODID:-//wp-events-plugin.com//7.2.3.1//EN
BEGIN:VEVENT
UID:28@inalarm.com
DTSTART:20230209T090000Z
DTEND:20230209T100000Z
DTSTAMP:20240819T170746Z
URL:https://inalarm.com/eventos/invidtech-2023-1/
SUMMARY:Webinar de InVidTech
DESCRIPTION:¡Conoce más de nuestros productos!
ATTACH;FMTTYPE=image/jpeg:https://inalarm.com/wp-content/uploads/2023/10/W
 ebinar-InVidTech.jpg
CATEGORIES:CCTV
END:VEVENT
END:VCALENDAR